BEGIN:VCALENDAR
VERSION:2.0
PRODID:-//INPA - ECPv6.8.3//NONSGML v1.0//EN
CALSCALE:GREGORIAN
METHOD:PUBLISH
X-ORIGINAL-URL:https://inpa.lbl.gov
X-WR-CALDESC:Events for INPA
REFRESH-INTERVAL;VALUE=DURATION:PT1H
X-Robots-Tag:noindex
X-PUBLISHED-TTL:PT1H
BEGIN:VTIMEZONE
TZID:America/Los_Angeles
BEGIN:DAYLIGHT
TZOFFSETFROM:-0800
TZOFFSETTO:-0700
TZNAME:PDT
DTSTART:20240310T100000
END:DAYLIGHT
BEGIN:STANDARD
TZOFFSETFROM:-0700
TZOFFSETTO:-0800
TZNAME:PST
DTSTART:20241103T090000
END:STANDARD
END:VTIMEZONE
BEGIN:VEVENT
DTSTART;TZID=America/Los_Angeles:20241115T120000
DTEND;TZID=America/Los_Angeles:20241115T130000
DTSTAMP:20260425T192254
CREATED:20241104T202606Z
LAST-MODIFIED:20241108T195455Z
UID:1860-1731672000-1731675600@inpa.lbl.gov
SUMMARY:INPA Seminar Speaker: Marie Camille Vidal (Stanford University)- Title: Neutrinoless double decay with the nEXO experiment
DESCRIPTION:INPA SEMINAR TALK \nDate: November 15\, 2024 \nTime: 12:00 pm – 1:00 pm \nLocation: Sessler Conference Room – 50A-5132 [Hybrid and In-Person] \nSpeaker: Marie Camille Vidal (Stanford University) \nTitle: Neutrinoless double decay with the nEXO experiment \nAbstract: The nEXO experiment will search for neutrinoless double beta decay (0νββ) using a 5-tonne scale LXe time projection chamber (TPC)\, enriched to 90% in Xe136\, reaching a half-life sensitivity greater than 10^28 years after 10 years of lifetime. The observation 0νββ decay would imply new physics due to the lepton number non-conservation\, and the Majorana nature of the neutrino. The nEXO TPC measures the energy through ionization and scintillation light\, which allows to reach energy resolution smaller than 1% at the Qββ endpoint value. The design was improved so that the background would be reduced; electroformed copper\, and the search for low activity materials are few of the areas of improvement. In this talk we will provide an overview of the nEXO experiment and the various design choices that lead to our current\nsensitivity.\n \nJoin Zoom Meeting\nhttps://lbnl.zoom.us/j/95016696011?pwd=Tk1XOW1Xd3RYRnlsc2tEYmRWZlVVZz09 \nMeeting ID: 950 1669 6011\n\nPasscode: 247722
URL:https://inpa.lbl.gov/event/inpa-seminar-speaker-marie-camille-vidal-stanford-university-title-neutrinoless-double-decay-with-the-nexo-experiment/
END:VEVENT
END:VCALENDAR