BEGIN:VCALENDAR
VERSION:2.0
PRODID:-//INPA - ECPv6.8.3//NONSGML v1.0//EN
CALSCALE:GREGORIAN
METHOD:PUBLISH
X-ORIGINAL-URL:https://inpa.lbl.gov
X-WR-CALDESC:Events for INPA
REFRESH-INTERVAL;VALUE=DURATION:PT1H
X-Robots-Tag:noindex
X-PUBLISHED-TTL:PT1H
BEGIN:VTIMEZONE
TZID:America/Los_Angeles
BEGIN:DAYLIGHT
TZOFFSETFROM:-0800
TZOFFSETTO:-0700
TZNAME:PDT
DTSTART:20240310T100000
END:DAYLIGHT
BEGIN:STANDARD
TZOFFSETFROM:-0700
TZOFFSETTO:-0800
TZNAME:PST
DTSTART:20241103T090000
END:STANDARD
END:VTIMEZONE
BEGIN:VEVENT
DTSTART;TZID=America/Los_Angeles:20241220T120000
DTEND;TZID=America/Los_Angeles:20241220T130000
DTSTAMP:20260425T175413
CREATED:20241210T200658Z
LAST-MODIFIED:20241212T214507Z
UID:1895-1734696000-1734699600@inpa.lbl.gov
SUMMARY:INPA SEMINAR Speaker: Majd Ghrear (UHM)- Title: Directional Recoil Detection
DESCRIPTION:Date: December 20\, 2024 \nTime: 12:00 am – 1:00 pm \nLocation: Sessler Conference Room – 50A-5132 [Hybrid and In-Person] \nSpeaker: Majd Ghrear (UHM) \nTitle: Directional Recoil Detection \nAbstract: Directional detection of low-energy nuclear and electronic recoils is broadly desirable in nuclear and particle physics. Applications include coherent elastic neutrino-nucleus scattering (CEνNS)\, astrophysical neutrino measurements\, probing dark matter (DM) beneath the neutrino fog\, and possibly confirming the galactic origin of a DM signal. While gaseous Time Projection Chambers (TPCs) offer the required gain and readout granularity\, they must be very large to achieve the required sensitivity for several of these physics applications. We discuss several aspects of future directional recoil detection experiments such as background rejection\, detector scalability\, directional performance on electron recoils\, and improving directional performance with deep neural networks. \nJoin Zoom Meeting\nhttps://lbnl.zoom.us/j/95016696011?pwd=Tk1XOW1Xd3RYRnlsc2tEYmRWZlVVZz09 \nMeeting ID: 950 1669 6011\n\nPasscode: 247722
URL:https://inpa.lbl.gov/event/no-inpa-seminar-26/
END:VEVENT
END:VCALENDAR