BEGIN:VCALENDAR
VERSION:2.0
PRODID:-//INPA - ECPv6.8.3//NONSGML v1.0//EN
CALSCALE:GREGORIAN
METHOD:PUBLISH
X-ORIGINAL-URL:https://inpa.lbl.gov
X-WR-CALDESC:Events for INPA
REFRESH-INTERVAL;VALUE=DURATION:PT1H
X-Robots-Tag:noindex
X-PUBLISHED-TTL:PT1H
BEGIN:VTIMEZONE
TZID:America/Los_Angeles
BEGIN:DAYLIGHT
TZOFFSETFROM:-0800
TZOFFSETTO:-0700
TZNAME:PDT
DTSTART:20250309T100000
END:DAYLIGHT
BEGIN:STANDARD
TZOFFSETFROM:-0700
TZOFFSETTO:-0800
TZNAME:PST
DTSTART:20251102T090000
END:STANDARD
END:VTIMEZONE
BEGIN:VEVENT
DTSTART;TZID=America/Los_Angeles:20250117T120000
DTEND;TZID=America/Los_Angeles:20250117T130000
DTSTAMP:20260425T163434
CREATED:20250113T223618Z
LAST-MODIFIED:20250113T223632Z
UID:1908-1737115200-1737118800@inpa.lbl.gov
SUMMARY:[Virtual] INPA Seminar Speaker: Erin Engelhardt ( University of North Carolina\, Chapel Hill)- Title: Searching for Neutrinoless Double-Beta Decay with LEGEND-200
DESCRIPTION:Date: January 17\, 2025 \nTime: 12:00 am – 1:00 pm \nLocation: Sessler Conference Room – 50A-5132 [Hybrid and In-Person] \nSpeaker: Erin Engelhardt ( University of North Carolina\, Chapel Hill) \nTitle:   Searching for Neutrinoless Double-Beta Decay with LEGEND-200 \nAbstract:  Neutrinoless double-beta decay (0νββ) is a theorized process where two neutrons decay into two protons and two electrons without emitting any antineutrinos. The existence of 0νββ would indicate the neutrino has a Majorana nature and thus acts as its own antiparticle. This process would violate lepton number conservation and provide a mechanism for explaining the observed matter/antimatter asymmetry. The Large Enriched Germanium Experiment for Neutrinoless ββ decay (LEGEND) is a phased 0νββ search in 76Ge using isotopically enriched high-purity germanium (HPGe) point contact detectors. The first phase\, LEGEND-200\, began operating in March 2023 with 142 kg of HPGe detectors and announced an updated half-life limit of 1.9 x 1026 yrs at the Neutrino 2024 conference. To achieve its sensitivity goals\, LEGEND-200 requires incredibly low background rates. Alpha and beta particles on the detector surfaces constitute a significant source of backgrounds in LEGEND. To mitigate these backgrounds\, a new pulse-shape discrimination technique for identifying surface events has been developed and implemented into the first LEGEND-200 analysis. In this seminar\, I will present an overview of the LEGEND-200 analysis and its first result. I will also discuss the performance and evaluation of the surface background rejection techniques used in LEGEND. \nJoin Zoom Meeting\nhttps://lbnl.zoom.us/j/95016696011?pwd=Tk1XOW1Xd3RYRnlsc2tEYmRWZlVVZz09 \nMeeting ID: 950 1669 6011 \nPasscode: 247722
URL:https://inpa.lbl.gov/event/virtual-inpa-seminar-speaker-erin-engelhardt-university-of-north-carolina-chapel-hill-title-searching-for-neutrinoless-double-beta-decay-with-legend-200/
END:VEVENT
END:VCALENDAR