BEGIN:VCALENDAR
VERSION:2.0
PRODID:-//INPA - ECPv6.8.3//NONSGML v1.0//EN
CALSCALE:GREGORIAN
METHOD:PUBLISH
X-ORIGINAL-URL:https://inpa.lbl.gov
X-WR-CALDESC:Events for INPA
REFRESH-INTERVAL;VALUE=DURATION:PT1H
X-Robots-Tag:noindex
X-PUBLISHED-TTL:PT1H
BEGIN:VTIMEZONE
TZID:America/Los_Angeles
BEGIN:DAYLIGHT
TZOFFSETFROM:-0800
TZOFFSETTO:-0700
TZNAME:PDT
DTSTART:20250309T100000
END:DAYLIGHT
BEGIN:STANDARD
TZOFFSETFROM:-0700
TZOFFSETTO:-0800
TZNAME:PST
DTSTART:20251102T090000
END:STANDARD
END:VTIMEZONE
BEGIN:VEVENT
DTSTART;TZID=America/Los_Angeles:20250509T120000
DTEND;TZID=America/Los_Angeles:20250509T130000
DTSTAMP:20260425T102453
CREATED:20250428T174043Z
LAST-MODIFIED:20250428T174043Z
UID:1987-1746792000-1746795600@inpa.lbl.gov
SUMMARY:INPA SEMINAR SPEAKER: TBA
DESCRIPTION:Date: May 9\, 2025 \nTime: 12:00 pm – 1:00 pm \nLocation: Sessler Conference Room – 50A-5132  [Hybrid and In-Person] \nSpeaker: TBA \nTitle: TBA \nAbstract: TBA \nJoin Zoom Meeting\nhttps://lbnl.zoom.us/j/95016696011?pwd=Tk1XOW1Xd3RYRnlsc2tEYmRWZlVVZz09 \nMeeting ID: 950 1669 6011 \nPasscode: 247722
URL:https://inpa.lbl.gov/event/inpa-seminar-speaker-tba/
END:VEVENT
END:VCALENDAR