BEGIN:VCALENDAR
VERSION:2.0
PRODID:-//INPA - ECPv6.8.3//NONSGML v1.0//EN
CALSCALE:GREGORIAN
METHOD:PUBLISH
X-ORIGINAL-URL:https://inpa.lbl.gov
X-WR-CALDESC:Events for INPA
REFRESH-INTERVAL;VALUE=DURATION:PT1H
X-Robots-Tag:noindex
X-PUBLISHED-TTL:PT1H
BEGIN:VTIMEZONE
TZID:America/Los_Angeles
BEGIN:DAYLIGHT
TZOFFSETFROM:-0800
TZOFFSETTO:-0700
TZNAME:PDT
DTSTART:20250309T100000
END:DAYLIGHT
BEGIN:STANDARD
TZOFFSETFROM:-0700
TZOFFSETTO:-0800
TZNAME:PST
DTSTART:20251102T090000
END:STANDARD
END:VTIMEZONE
BEGIN:VEVENT
DTSTART;TZID=America/Los_Angeles:20250725T120000
DTEND;TZID=America/Los_Angeles:20250725T130000
DTSTAMP:20260421T141320
CREATED:20250721T162132Z
LAST-MODIFIED:20250728T211037Z
UID:2026-1753444800-1753448400@inpa.lbl.gov
SUMMARY:NO INPA SEMINAR
DESCRIPTION:
URL:https://inpa.lbl.gov/event/no-inpa-seminar-37/
ORGANIZER;CN="Daniel Kodroff":MAILTO:DanielKodroff@lbl.gov
END:VEVENT
END:VCALENDAR