BEGIN:VCALENDAR
VERSION:2.0
PRODID:-//INPA - ECPv6.8.3//NONSGML v1.0//EN
CALSCALE:GREGORIAN
METHOD:PUBLISH
X-WR-CALNAME:INPA
X-ORIGINAL-URL:https://inpa.lbl.gov
X-WR-CALDESC:Events for INPA
REFRESH-INTERVAL;VALUE=DURATION:PT1H
X-Robots-Tag:noindex
X-PUBLISHED-TTL:PT1H
BEGIN:VTIMEZONE
TZID:America/Los_Angeles
BEGIN:DAYLIGHT
TZOFFSETFROM:-0800
TZOFFSETTO:-0700
TZNAME:PDT
DTSTART:20160313T100000
END:DAYLIGHT
BEGIN:STANDARD
TZOFFSETFROM:-0700
TZOFFSETTO:-0800
TZNAME:PST
DTSTART:20161106T090000
END:STANDARD
END:VTIMEZONE
BEGIN:VEVENT
DTSTART;TZID=America/Los_Angeles:20161209T120000
DTEND;TZID=America/Los_Angeles:20161209T130000
DTSTAMP:20260419T155310
CREATED:20161214T205410Z
LAST-MODIFIED:20161214T210521Z
UID:54-1481284800-1481288400@inpa.lbl.gov
SUMMARY:Probing Dark Matter with Radio Surveys
DESCRIPTION:Julian Munoz \n Probing Dark Matter with Radio Surveys  \n A significant part of dark matter could be compact\, in particular in the form of primordial black holes. I will review the signatures of primordial black holes\, both in the form of gravitational-wave events and as gravitational lenses of fast radio bursts. Alternatively\, a WIMP-y dark-matter component could interact with baryons. I will explain how these interactions cause heating of the baryons\, becoming observable in the 21-cm line prior to the epoch of reionization.
URL:https://inpa.lbl.gov/event/probing-dark-matter-with-radio-surveys/
LOCATION:INPA Common Room\, 50-5026
END:VEVENT
END:VCALENDAR