BEGIN:VCALENDAR
VERSION:2.0
PRODID:-//INPA - ECPv6.8.3//NONSGML v1.0//EN
CALSCALE:GREGORIAN
METHOD:PUBLISH
X-ORIGINAL-URL:https://inpa.lbl.gov
X-WR-CALDESC:Events for INPA
REFRESH-INTERVAL;VALUE=DURATION:PT1H
X-Robots-Tag:noindex
X-PUBLISHED-TTL:PT1H
BEGIN:VTIMEZONE
TZID:America/Los_Angeles
BEGIN:DAYLIGHT
TZOFFSETFROM:-0800
TZOFFSETTO:-0700
TZNAME:PDT
DTSTART:20240310T100000
END:DAYLIGHT
BEGIN:STANDARD
TZOFFSETFROM:-0700
TZOFFSETTO:-0800
TZNAME:PST
DTSTART:20241103T090000
END:STANDARD
END:VTIMEZONE
BEGIN:VEVENT
DTSTART;TZID=America/Los_Angeles:20240906T120000
DTEND;TZID=America/Los_Angeles:20240906T130000
DTSTAMP:20260425T204450
CREATED:20240904T222524Z
LAST-MODIFIED:20240904T222524Z
UID:1815-1725624000-1725627600@inpa.lbl.gov
SUMMARY:NO INPA SEMINAR
DESCRIPTION:
URL:https://inpa.lbl.gov/event/no-inpa-seminar-17/
END:VEVENT
BEGIN:VEVENT
DTSTART;TZID=America/Los_Angeles:20240920T120000
DTEND;TZID=America/Los_Angeles:20240920T130000
DTSTAMP:20260425T204450
CREATED:20240917T212236Z
LAST-MODIFIED:20240919T180711Z
UID:1818-1726833600-1726837200@inpa.lbl.gov
SUMMARY:NO INPA SEMINAR
DESCRIPTION:
URL:https://inpa.lbl.gov/event/no-inpa-seminar-18/
END:VEVENT
BEGIN:VEVENT
DTSTART;TZID=America/Los_Angeles:20240927T120000
DTEND;TZID=America/Los_Angeles:20240927T130000
DTSTAMP:20260425T204450
CREATED:20240924T185912Z
LAST-MODIFIED:20240924T185912Z
UID:1833-1727438400-1727442000@inpa.lbl.gov
SUMMARY:NO INPA SEMINAR
DESCRIPTION:
URL:https://inpa.lbl.gov/event/no-inpa-seminar-19/
END:VEVENT
END:VCALENDAR