BEGIN:VCALENDAR
VERSION:2.0
PRODID:-//INPA - ECPv6.8.3//NONSGML v1.0//EN
CALSCALE:GREGORIAN
METHOD:PUBLISH
X-ORIGINAL-URL:https://inpa.lbl.gov
X-WR-CALDESC:Events for INPA
REFRESH-INTERVAL;VALUE=DURATION:PT1H
X-Robots-Tag:noindex
X-PUBLISHED-TTL:PT1H
BEGIN:VTIMEZONE
TZID:America/Los_Angeles
BEGIN:DAYLIGHT
TZOFFSETFROM:-0800
TZOFFSETTO:-0700
TZNAME:PDT
DTSTART:20250309T100000
END:DAYLIGHT
BEGIN:STANDARD
TZOFFSETFROM:-0700
TZOFFSETTO:-0800
TZNAME:PST
DTSTART:20251102T090000
END:STANDARD
END:VTIMEZONE
BEGIN:VEVENT
DTSTART;TZID=America/Los_Angeles:20251003T120000
DTEND;TZID=America/Los_Angeles:20251003T130000
DTSTAMP:20260421T044400
CREATED:20250908T201025Z
LAST-MODIFIED:20250929T150800Z
UID:2067-1759492800-1759496400@inpa.lbl.gov
SUMMARY:[CANCELED] NO INPA Seminar Speaker
DESCRIPTION:Date: October 3\, 2025 \nTime: 12:00 pm – 1:00 pm \nLocation: Sessler Conference Room – 50A-5132 [Hybrid and In-Person] \nSpeaker:  CANCELED \nTitle: TBD \nAbstract: TBD \nJoin Zoom Meeting\nhttps://lbnl.zoom.us/j/95016696011?pwd=Tk1XOW1Xd3RYRnlsc2tEYmRWZlVVZz09 \nMeeting ID: 950 1669 6011 \nPasscode: 247722
URL:https://inpa.lbl.gov/event/inpa-seminar-speaker-nicole-neto-godry-farias-berkeley-title-tbd/
END:VEVENT
BEGIN:VEVENT
DTSTART;TZID=America/Los_Angeles:20251010T120000
DTEND;TZID=America/Los_Angeles:20251010T130000
DTSTAMP:20260421T044400
CREATED:20250929T155629Z
LAST-MODIFIED:20250929T155724Z
UID:2074-1760097600-1760101200@inpa.lbl.gov
SUMMARY:[CANCELED] NO INPA Seminar ( WEEK OF CPAD 2025)
DESCRIPTION:
URL:https://inpa.lbl.gov/event/canceled-no-inpa-seminar-week-of-cpad-2025/
END:VEVENT
BEGIN:VEVENT
DTSTART;TZID=America/Los_Angeles:20251017T120000
DTEND;TZID=America/Los_Angeles:20251017T130000
DTSTAMP:20260421T044400
CREATED:20250929T151406Z
LAST-MODIFIED:20251013T164636Z
UID:2088-1760702400-1760706000@inpa.lbl.gov
SUMMARY:INPA SEMINAR SPEAKER: TBA- Title: TBD
DESCRIPTION:Date: October 17\, 2025 \nTime: 12:00 pm – 1:00 pm \nLocation: Sessler Conference Room – 50A-5132 [Hybrid and In-Person] \nSpeaker:  TBA \nTitle: TBD \nAbstract: TBD \nJoin Zoom Meeting\nhttps://lbnl.zoom.us/j/95016696011?pwd=Tk1XOW1Xd3RYRnlsc2tEYmRWZlVVZz09 \nMeeting ID: 950 1669 6011 \nPasscode: 247722
URL:https://inpa.lbl.gov/event/inpa-seminar-speaker-tba-title-tbd/
END:VEVENT
BEGIN:VEVENT
DTSTART;TZID=America/Los_Angeles:20251024T120000
DTEND;TZID=America/Los_Angeles:20251024T130000
DTSTAMP:20260421T044400
CREATED:20250929T155233Z
LAST-MODIFIED:20251021T210802Z
UID:2090-1761307200-1761310800@inpa.lbl.gov
SUMMARY:INPA Seminar Speaker: Maria Simanovskaia(SLAC) -Title:  Listening for dark matter with DMRadio
DESCRIPTION:Date: October 24\, 2025 \nTime: 12:00 pm – 1:00 pm \nLocation: Sessler Conference Room – 50A-5132 [Hybrid and In-Person] \nSpeaker:  Maria Siamovskaia \nTitle:  Listening for dark matter with DMRadio \nAbstract: Uncovering the nature of dark matter is one of the biggest challenges of modern physics. The DMRadio program searches for axions with masses below 1 μeV\, probing a highly motivated region tied to GUT-scale physics and preinflationary dark matter production. The ultimate experiment for GUT-scale axions requires novel technologies\, including large magnets\, high-quality-factor resonators\, and quantum sensors. A critical step in the path towards the ultimate GUT-scale axion experiment is the commissioning of DMRadio-50L\, which will serve as an R&D platform for technologies that will enable a next-generation search. In this talk\, I will present the progress of DMRadio-50L commissioning and R&D activities within the DMRadio collaboration. \nJoin Zoom Meeting\nhttps://lbnl.zoom.us/j/95016696011?pwd=Tk1XOW1Xd3RYRnlsc2tEYmRWZlVVZz09 \nMeeting ID: 950 1669 6011 \nPasscode: 247722
URL:https://inpa.lbl.gov/event/inpa-seminar-speaker-tba-title-tbd-2/
END:VEVENT
BEGIN:VEVENT
DTSTART;TZID=America/Los_Angeles:20251031T120000
DTEND;TZID=America/Los_Angeles:20251031T130000
DTSTAMP:20260421T044400
CREATED:20250929T160326Z
LAST-MODIFIED:20251028T205707Z
UID:2096-1761912000-1761915600@inpa.lbl.gov
SUMMARY:[SPECIAL] INPA Seminar Speaker: Dr. Thomas Russell (UMass Amherst) and LBL Materials Sciences Division
DESCRIPTION:Date: October 31\, 2025 \nTime: 12:00 pm – 1:00 pm \nLocation: ​B​50- ​Auditorium [Hybrid and In-Person] \nNote: Tea and cookies provided! \nSpeaker: Dr. Thomas Russell​ (UMass Amherst) and the LBL Materials Sciences Division   \nTitle: Structuring Liquids \nAbstract: The minimization of free energy forces liquids to assume a spherical shape. If we could lock in different shapes\, i.e.\, structure the liquids\, unique materials having the dynamics and mobility of liquids but the structural integrity of a solid would emerge. \n\nJoin Zoom Meeting \nMeeting ID: 973 1481 3383 \n\nPasscode: 631580
URL:https://inpa.lbl.gov/event/inpa-seminar-speaker-tba-title-tbd-3/
END:VEVENT
END:VCALENDAR