BEGIN:VCALENDAR
VERSION:2.0
PRODID:-//INPA - ECPv6.8.3//NONSGML v1.0//EN
CALSCALE:GREGORIAN
METHOD:PUBLISH
X-WR-CALNAME:INPA
X-ORIGINAL-URL:https://inpa.lbl.gov
X-WR-CALDESC:Events for INPA
REFRESH-INTERVAL;VALUE=DURATION:PT1H
X-Robots-Tag:noindex
X-PUBLISHED-TTL:PT1H
BEGIN:VTIMEZONE
TZID:America/Los_Angeles
BEGIN:DAYLIGHT
TZOFFSETFROM:-0800
TZOFFSETTO:-0700
TZNAME:PDT
DTSTART:20250309T100000
END:DAYLIGHT
BEGIN:STANDARD
TZOFFSETFROM:-0700
TZOFFSETTO:-0800
TZNAME:PST
DTSTART:20251102T090000
END:STANDARD
END:VTIMEZONE
BEGIN:VEVENT
DTSTART;TZID=America/Los_Angeles:20251107T120000
DTEND;TZID=America/Los_Angeles:20251107T130000
DTSTAMP:20260421T060945
CREATED:20251010T165235Z
LAST-MODIFIED:20251107T004138Z
UID:2102-1762516800-1762520400@inpa.lbl.gov
SUMMARY:INPA Seminar Speaker: Jennifer Pore(LBL)-Title: How the Cyclotron Saved the Periodic Table
DESCRIPTION:Date: November 7\, 2025 \nTime: 12:00 pm – 1:00 pm \nLocation: Sessler Conference Room – 50A-5132 [Hybrid and In-Person] \nSpeaker:  Jennifer Pore \nTitle: How the Cyclotron Saved the Periodic Table \nAbstract: The Periodic Table is a cornerstone of chemistry\, but its validity is challenged by the extreme properties of superheavy elements (SHEs\, Z ≥ 104) and actinides (Z > 88). Relativistic effects\, stemming from their large nuclear charges\, significantly alter their chemical behaviors\, potentially limiting the predictive power of the Periodic Table. Unfortunately\, these elements do not exist naturally on earth and can only be produced in nuclear reactions. A new method has been developed\, using a cutting-edge atom-at-a-time technique at the 88-Inch Cyclotron Facility at Lawrence Berkeley National Laboratory\, to help us learn more about the interesting chemistry of these elusive elements. Recent results on the production and identification actinium (Ac\, Z = 89) and nobelium (No\, Z = 102) molecules will be presented. Future directions for unraveling the mysteries of SHE chemistry will be discussed\, which will challenge our current understanding of the Periodic Table. \nJoin Zoom Meeting\nhttps://lbnl.zoom.us/j/95016696011?pwd=Tk1XOW1Xd3RYRnlsc2tEYmRWZlVVZz09 \nMeeting ID: 950 1669 6011 \nPasscode: 247722
URL:https://inpa.lbl.gov/event/inpa-seminar-speaker-jennifer-porelbl-title-tbd/
END:VEVENT
BEGIN:VEVENT
DTSTART;TZID=America/Los_Angeles:20251114T120000
DTEND;TZID=America/Los_Angeles:20251114T130000
DTSTAMP:20260421T060945
CREATED:20251010T171357Z
LAST-MODIFIED:20251107T004823Z
UID:2104-1763121600-1763125200@inpa.lbl.gov
SUMMARY:INPA Seminar Speaker: Arran Phipps(CSU East Bay)-Title:SPLENDOR: Searching for Light Dark Matter with Narrow-Gap Semiconductors
DESCRIPTION:Date: November 14\, 2025 \nTime: 12:00 pm – 1:00 pm \nLocation: Sessler Conference Room – 50A-5132 [Hybrid and In-Person] \nSpeaker: Arran Phipps (CSU East Bay) \nTitle: SPLENDOR: Searching for Light Dark Matter with Narrow-Gap Semiconductors \nAbstract: SPLENDOR is a cross-disciplinary collaboration developing novel semiconductor detectors to search for low-mass\, particle-like dark matter. Our approach combines low-bandgap semiconductor targets with ultra-low-noise cryogenic charge amplifiers to probe energy depositions below 1 eV. We have developed a modular detector platform optimized for rapid integration of new materials\, featuring a two-stage cryogenic HEMT-based amplifier with a demonstrated charge resolution of 19 ± 4 electrons. This talk will review the motivation for sub-GeV dark matter detection with low-temperature semiconductors\, describe SPLENDOR’s experimental design and calibration efforts\, and discuss future directions in device development and charge amplification. \nJoin Zoom Meeting\nhttps://lbnl.zoom.us/j/95016696011?pwd=Tk1XOW1Xd3RYRnlsc2tEYmRWZlVVZz09 \nMeeting ID: 950 1669 6011 \nPasscode: 247722
URL:https://inpa.lbl.gov/event/inpa-seminar-speaker-arran-phippscsu-east-bay-titletbd/
END:VEVENT
BEGIN:VEVENT
DTSTART;TZID=America/Los_Angeles:20251120T120000
DTEND;TZID=America/Los_Angeles:20251120T130000
DTSTAMP:20260421T060945
CREATED:20251107T005734Z
LAST-MODIFIED:20251107T005734Z
UID:2118-1763640000-1763643600@inpa.lbl.gov
SUMMARY:NO INPA Seminar Talk
DESCRIPTION:
URL:https://inpa.lbl.gov/event/no-inpa-seminar-talk-5/
END:VEVENT
BEGIN:VEVENT
DTSTART;TZID=America/Los_Angeles:20251128T120000
DTEND;TZID=America/Los_Angeles:20251128T130000
DTSTAMP:20260421T060945
CREATED:20251107T005152Z
LAST-MODIFIED:20251107T005152Z
UID:2116-1764331200-1764334800@inpa.lbl.gov
SUMMARY:NO INPA Seminar Talk
DESCRIPTION:
URL:https://inpa.lbl.gov/event/no-inpa-seminar-talk-4/
END:VEVENT
END:VCALENDAR