BEGIN:VCALENDAR
VERSION:2.0
PRODID:-//INPA - ECPv6.8.3//NONSGML v1.0//EN
CALSCALE:GREGORIAN
METHOD:PUBLISH
X-ORIGINAL-URL:https://inpa.lbl.gov
X-WR-CALDESC:Events for INPA
REFRESH-INTERVAL;VALUE=DURATION:PT1H
X-Robots-Tag:noindex
X-PUBLISHED-TTL:PT1H
BEGIN:VTIMEZONE
TZID:America/Los_Angeles
BEGIN:DAYLIGHT
TZOFFSETFROM:-0800
TZOFFSETTO:-0700
TZNAME:PDT
DTSTART:20260308T100000
END:DAYLIGHT
BEGIN:STANDARD
TZOFFSETFROM:-0700
TZOFFSETTO:-0800
TZNAME:PST
DTSTART:20261101T090000
END:STANDARD
END:VTIMEZONE
BEGIN:VEVENT
DTSTART;TZID=America/Los_Angeles:20260102T120000
DTEND;TZID=America/Los_Angeles:20260102T130000
DTSTAMP:20260422T033650
CREATED:20251209T194044Z
LAST-MODIFIED:20251209T194044Z
UID:2143-1767355200-1767358800@inpa.lbl.gov
SUMMARY:NO INPA SEMINAR
DESCRIPTION:
URL:https://inpa.lbl.gov/event/no-inpa-seminar-48/
END:VEVENT
BEGIN:VEVENT
DTSTART;TZID=America/Los_Angeles:20260109T120000
DTEND;TZID=America/Los_Angeles:20260109T130000
DTSTAMP:20260422T033650
CREATED:20251203T152321Z
LAST-MODIFIED:20251203T152321Z
UID:2131-1767960000-1767963600@inpa.lbl.gov
SUMMARY:NO INPA SEMINAR
DESCRIPTION:
URL:https://inpa.lbl.gov/event/no-inpa-seminar-44/
END:VEVENT
BEGIN:VEVENT
DTSTART;TZID=America/Los_Angeles:20260116T120000
DTEND;TZID=America/Los_Angeles:20260116T130000
DTSTAMP:20260422T033650
CREATED:20251209T195037Z
LAST-MODIFIED:20260109T031755Z
UID:2145-1768564800-1768568400@inpa.lbl.gov
SUMMARY:INPA Seminar Speaker: Ralf Konietzka (Harvard) - Title: Fast Radio Burst Cosmology in IllustrisTNG: Forward Modeling Dispersion Measures to Constrain Baryonic Feedback
DESCRIPTION:Date: January 16\, 2026 \nTime: 12:00 pm – 1:00 pm \nLocation: Sessler Conference Room – 50A-5132 [Hybrid and In-Person] \nSpeaker: Ralf Konietzka (Harvard) \nTitle: Fast Radio Burst Cosmology in IllustrisTNG: Forward Modeling Dispersion Measures to Constrain Baryonic Feedback \nAbstract: The dispersion measures (DMs) of Fast Radio Bursts (FRBs) arise predominantly from free electrons in the large-scale structure of the Universe. The increasing number of FRB observations have started to empirically constrain the distribution of cosmic baryons\, making it crucial to accurately forward model their propagation within cosmological simulations.\nIn this talk\, I present a method for measuring FRB DMs in IllustrisTNG that continuously traces rays through the simulation while reconstructing all traversed line segments within the underlying Voronoi mesh. Leveraging this technique\, we create over 20 publicly available DM catalogs\, including a full-sky DM map observed from a Milky Way-like environment.\nOur method addresses a problem in previous TNG-based studies\, in which a sparse snapshot sampling in the path integral leads to a misestimation of the standard deviation and higher moments of the DM distribution p(DM|z) by over 50%.\nConfronting our simulated FRB catalogs with recent observations from DSA-110\, ASKAP\, and CHIME\, I quantify the distribution of baryons relative to the underlying matter\, allowing us to place new constraints on the strength of baryonic feedback. \nJoin Zoom Meeting\nhttps://lbnl.zoom.us/j/95016696011?pwd=Tk1XOW1Xd3RYRnlsc2tEYmRWZlVVZz09 \nMeeting ID: 950 1669 6011 \nPasscode: 247722
URL:https://inpa.lbl.gov/event/inpa-seminar-speaker-ralf-konietzka-harvard-title-tbd/
END:VEVENT
BEGIN:VEVENT
DTSTART;TZID=America/Los_Angeles:20260123T120000
DTEND;TZID=America/Los_Angeles:20260123T130000
DTSTAMP:20260422T033650
CREATED:20251209T195351Z
LAST-MODIFIED:20260123T005720Z
UID:2149-1769169600-1769173200@inpa.lbl.gov
SUMMARY:NO INPA SEMINAR
DESCRIPTION:
URL:https://inpa.lbl.gov/event/inpa-seminar-speaker-tbd-title-tbd/
END:VEVENT
BEGIN:VEVENT
DTSTART;TZID=America/Los_Angeles:20260130T120000
DTEND;TZID=America/Los_Angeles:20260130T130000
DTSTAMP:20260422T033650
CREATED:20251209T195832Z
LAST-MODIFIED:20260123T010056Z
UID:2151-1769774400-1769778000@inpa.lbl.gov
SUMMARY:INPA Seminar Speaker: Seungeun Lee (LBL)- Title: Scintillation photon counting detector concept for advancing time-of-flight PET
DESCRIPTION:Date: January 30\, 2026 \nTime: 12:00 pm – 1:00 pm \nLocation: Sessler Conference Room – 50A-5132 [Hybrid and In-Person] \nSpeaker: Seungeun Lee (LBL) \nTitle: Scintillation photon counting detector concept for advancing time-of-flight PET \nAbstract: Positron emission tomography (PET) is a powerful imaging modality for providing in vivo molecular function in nuclear medicine. The precise timing capability of positron annihilation photon interaction within the scintillation detectors has remarkably revolutionized the diagnostic performance of PET\, motivating the radiation instrumentation researchers to pursue sub-100-ps time resolution at the system level. The biomedical imaging team at LBL ANP is currently developing a novel time-of-flight PET detector concept that extracts unique timestamps of the early scintillation photons for event timing and positioning. This approach integrates a large-volume scintillation crystal\, silicon photomultipliers\, and low-noise high-frequency readout electronics. Our recent progress in design optimization and prototype characterization will be presented. \nJoin Zoom Meeting\nhttps://lbnl.zoom.us/j/95016696011?pwd=Tk1XOW1Xd3RYRnlsc2tEYmRWZlVVZz09 \nMeeting ID: 950 1669 6011 \nPasscode: 247722
URL:https://inpa.lbl.gov/event/inpa-seminar-speaker-tbd-title-tbd-2/
END:VEVENT
END:VCALENDAR